BEGIN:VCALENDAR
VERSION:2.0
PRODID:spatie/icalendar-generator
DESCRIPTION:Events from Phoenix Community Church UCC
X-WR-CALDESC:Events from Phoenix Community Church UCC
REFRESH-INTERVAL;VALUE=DURATION:PT1440M
X-PUBLISHED-TTL:PT1440M
BEGIN:VTIMEZONE
TZID:America/Detroit
BEGIN:DAYLIGHT
DTSTART:20240310T020000Z
TZOFFSETFROM:-0500
TZOFFSETTO:-0400
END:DAYLIGHT
BEGIN:STANDARD
DTSTART:20241103T020000Z
TZOFFSETFROM:-0400
TZOFFSETTO:-0500
END:STANDARD
END:VTIMEZONE
BEGIN:VTIMEZONE
TZID:UTC
BEGIN:STANDARD
DTSTART:20250723T135734Z
TZOFFSETFROM:+0000
TZOFFSETTO:+0000
END:STANDARD
END:VTIMEZONE
BEGIN:VEVENT
UID:296-74
DTSTAMP:20260419T135734Z
SUMMARY:Retreat Planning
LOCATION:Phoenix Community Church UCC 345 W. Michigan Ave.  Kalamazoo MI 49
 007
ORGANIZER;CN=Phoenix:MAILTO:phoenixchurch@yahoo.com
DTSTART;TZID=America/Detroit:20240801T140000
DTEND;TZID=America/Detroit:20240801T150000
X-ALT-DESC;FMTTYPE=TEXT/HTML:
CATEGORIES:General
URL;VALUE=URI:https://www.phoenixcommunitychurch.org/mc-events/retreat-plan
 ning-2/
METHOD:PUBLISH
END:VEVENT
END:VCALENDAR