BEGIN:VCALENDAR
VERSION:2.0
PRODID:spatie/icalendar-generator
DESCRIPTION:Events from Phoenix Community Church UCC
X-WR-CALDESC:Events from Phoenix Community Church UCC
REFRESH-INTERVAL;VALUE=DURATION:PT1440M
X-PUBLISHED-TTL:PT1440M
BEGIN:VTIMEZONE
TZID:America/Detroit
BEGIN:DAYLIGHT
DTSTART:20240310T020000Z
TZOFFSETFROM:-0500
TZOFFSETTO:-0400
END:DAYLIGHT
BEGIN:STANDARD
DTSTART:20241103T020000Z
TZOFFSETFROM:-0400
TZOFFSETTO:-0500
END:STANDARD
BEGIN:DAYLIGHT
DTSTART:20250309T020000Z
TZOFFSETFROM:-0500
TZOFFSETTO:-0400
END:DAYLIGHT
END:VTIMEZONE
BEGIN:VTIMEZONE
TZID:UTC
BEGIN:STANDARD
DTSTART:20250723T153409Z
TZOFFSETFROM:+0000
TZOFFSETTO:+0000
END:STANDARD
END:VTIMEZONE
BEGIN:VEVENT
UID:295-73
DTSTAMP:20260419T153409Z
SUMMARY:Timid Poet Open Mic night
LOCATION:Phoenix Community Church UCC 345 W. Michigan Ave.  Kalamazoo MI 49
 007
ORGANIZER;CN=Phoenix:MAILTO:phoenixchurch@yahoo.com
DTSTART;TZID=America/Detroit:20240921T190000
DTEND;TZID=America/Detroit:20240921T203000
X-ALT-DESC;FMTTYPE=TEXT/HTML:<p>Come to share or just listen!</p>\n
CATEGORIES:General
URL;VALUE=URI:https://www.phoenixcommunitychurch.org/mc-events/timid-poet-o
 pen-mic-night-3/
METHOD:PUBLISH
END:VEVENT
END:VCALENDAR