BEGIN:VCALENDAR
VERSION:2.0
PRODID:spatie/icalendar-generator
DESCRIPTION:Events from Phoenix Community Church UCC
X-WR-CALDESC:Events from Phoenix Community Church UCC
REFRESH-INTERVAL;VALUE=DURATION:PT1440M
X-PUBLISHED-TTL:PT1440M
BEGIN:VTIMEZONE
TZID:America/Detroit
BEGIN:DAYLIGHT
DTSTART:20230312T020000Z
TZOFFSETFROM:-0500
TZOFFSETTO:-0400
END:DAYLIGHT
BEGIN:STANDARD
DTSTART:20231105T020000Z
TZOFFSETFROM:-0400
TZOFFSETTO:-0500
END:STANDARD
BEGIN:DAYLIGHT
DTSTART:20240310T020000Z
TZOFFSETFROM:-0500
TZOFFSETTO:-0400
END:DAYLIGHT
END:VTIMEZONE
BEGIN:VTIMEZONE
TZID:UTC
BEGIN:STANDARD
DTSTART:20250723T231626Z
TZOFFSETFROM:+0000
TZOFFSETTO:+0000
END:STANDARD
END:VTIMEZONE
BEGIN:VEVENT
UID:26-2
DTSTAMP:20260419T231626Z
SUMMARY:Worship
LOCATION:Phoenix Community Church UCC 345 W. Michigan Ave.  Kalamazoo MI 49
 007
ORGANIZER;CN=Phoenix:MAILTO:phoenixchurch@yahoo.com
RRULE:FREQ=WEEKLY;UNTIL=20240101T000000Z
DTSTART;TZID=America/Detroit:20231112T180000
DTEND;TZID=America/Detroit:20231112T190000
X-ALT-DESC;FMTTYPE=TEXT/HTML:Weekly worship service. Attend in-person or vi
 a Zoom. Contact the church office for the Zoom connection info.
CATEGORIES:General
URL;VALUE=URI:https://www.phoenixcommunitychurch.org/mc-events/worship/?mc_
 id=26
METHOD:PUBLISH
END:VEVENT
END:VCALENDAR