BEGIN:VCALENDAR
VERSION:2.0
PRODID:spatie/icalendar-generator
DESCRIPTION:Events from Phoenix Community Church UCC
X-WR-CALDESC:Events from Phoenix Community Church UCC
REFRESH-INTERVAL;VALUE=DURATION:PT1440M
X-PUBLISHED-TTL:PT1440M
BEGIN:VTIMEZONE
TZID:America/Detroit
BEGIN:DAYLIGHT
DTSTART:20240310T020000Z
TZOFFSETFROM:-0500
TZOFFSETTO:-0400
END:DAYLIGHT
BEGIN:STANDARD
DTSTART:20241103T020000Z
TZOFFSETFROM:-0400
TZOFFSETTO:-0500
END:STANDARD
BEGIN:DAYLIGHT
DTSTART:20250309T020000Z
TZOFFSETFROM:-0500
TZOFFSETTO:-0400
END:DAYLIGHT
END:VTIMEZONE
BEGIN:VTIMEZONE
TZID:UTC
BEGIN:STANDARD
DTSTART:20250727T190024Z
TZOFFSETFROM:+0000
TZOFFSETTO:+0000
END:STANDARD
END:VTIMEZONE
BEGIN:VEVENT
UID:238-40
DTSTAMP:20260423T190024Z
SUMMARY:Book Study
LOCATION:Zoom (online)
ORGANIZER;CN=Phoenix:MAILTO:phoenixchurch@yahoo.com
RRULE:FREQ=WEEKLY;UNTIL=20241231T000000Z
DTSTART;TZID=America/Detroit:20241002T180000
DTEND;TZID=America/Detroit:20241002T193000
X-ALT-DESC;FMTTYPE=TEXT/HTML:Join us anytime. We read together during the g
 atherings so you wouldn't need to purchase the current book if you don't w
 ant to. Contact the church office for more info about what book we are cur
 rently reading or for the Zoom connection information.
CATEGORIES:General
URL;VALUE=URI:https://www.phoenixcommunitychurch.org/mc-events/book-study-3
 /?mc_id=238
METHOD:PUBLISH
END:VEVENT
END:VCALENDAR