BEGIN:VCALENDAR
VERSION:2.0
PRODID:spatie/icalendar-generator
DESCRIPTION:Events from Phoenix Community Church UCC
X-WR-CALDESC:Events from Phoenix Community Church UCC
REFRESH-INTERVAL;VALUE=DURATION:PT1440M
X-PUBLISHED-TTL:PT1440M
BEGIN:VTIMEZONE
TZID:America/Detroit
BEGIN:STANDARD
DTSTART:20231105T020000Z
TZOFFSETFROM:-0400
TZOFFSETTO:-0500
END:STANDARD
BEGIN:DAYLIGHT
DTSTART:20240310T020000Z
TZOFFSETFROM:-0500
TZOFFSETTO:-0400
END:DAYLIGHT
BEGIN:STANDARD
DTSTART:20241103T020000Z
TZOFFSETFROM:-0400
TZOFFSETTO:-0500
END:STANDARD
END:VTIMEZONE
BEGIN:VTIMEZONE
TZID:UTC
BEGIN:STANDARD
DTSTART:20250727T083800Z
TZOFFSETFROM:+0000
TZOFFSETTO:+0000
END:STANDARD
END:VTIMEZONE
BEGIN:VEVENT
UID:174-39
DTSTAMP:20260423T083800Z
SUMMARY:Worship
LOCATION:Phoenix Community Church UCC 345 W. Michigan Ave.  Kalamazoo MI 49
 007
ORGANIZER;CN=Phoenix:MAILTO:phoenixchurch@yahoo.com
RRULE:FREQ=WEEKLY;UNTIL=20241231T000000Z
DTSTART;TZID=America/Detroit:20240714T180000
DTEND;TZID=America/Detroit:20240714T190000
X-ALT-DESC;FMTTYPE=TEXT/HTML:Our weekly worship service can be attended in 
 person or via Zoom. For the Zoom information\, contact the church office.
CATEGORIES:General
URL;VALUE=URI:https://www.phoenixcommunitychurch.org/mc-events/worship-2/?m
 c_id=174
METHOD:PUBLISH
END:VEVENT
END:VCALENDAR